BEGIN:VCALENDAR
VERSION:2.0
PRODID:SchoolNow
CALSCALE:GREGORIAN
BEGIN:VEVENT
UID:68ebc270-150c-11f1-9b39-0a58a9feac02
DTSTAMP:20260301T011726Z
SUMMARY:2026 Summer Institute
URL;VALUE=URI:https://www.xavierja.org/calendar/8879972/2026-summer-institu
 te
DTSTART;VALUE=DATE:20260720
DTEND;VALUE=DATE:20260801
END:VEVENT
END:VCALENDAR
