BEGIN:VCALENDAR
VERSION:2.0
PRODID:SchoolNow
CALSCALE:GREGORIAN
BEGIN:VEVENT
UID:591328ea-150a-11f1-aaad-0e8a3ca0f1b9
DTSTAMP:20260316T155034Z
SUMMARY:End of School Year Mass
URL;VALUE=URI:https://www.xavierja.org/calendar/8879968/end-of-school-year-
 mass
DTSTART:20260522T150000Z
DTEND:20260522T160000Z
END:VEVENT
END:VCALENDAR
