BEGIN:VCALENDAR
VERSION:2.0
PRODID:SchoolNow
CALSCALE:GREGORIAN
BEGIN:VEVENT
UID:de70d30e-1508-11f1-ae9b-0261e2fd6d85
DTSTAMP:20260301T015534Z
SUMMARY:2026 Spring Social
DESCRIPTION:Join us!\nYou are invited to an evening of fellowship and celeb
 ration in support of Xavier Jesuit Academy. Come see the impact of Jesuit 
 education on our scholars and community.
LOCATION:1601 California Ave\, Cincinnati\, OH 45237
URL;VALUE=URI:https://www.xavierja.org/calendar/8879966/2026-spring-social
DTSTART:20260429T210000Z
DTEND:20260430T000000Z
END:VEVENT
END:VCALENDAR
